BEGIN:VCALENDAR
VERSION:2.0
PRODID:-//Maison du Berger - ECPv5.4.0.2//NONSGML v1.0//EN
CALSCALE:GREGORIAN
METHOD:PUBLISH
X-WR-CALNAME:Maison du Berger
X-ORIGINAL-URL:http://maisonduberger.com
X-WR-CALDESC:évènements pour Maison du Berger
BEGIN:VTIMEZONE
TZID:Europe/Paris
BEGIN:DAYLIGHT
TZOFFSETFROM:+0100
TZOFFSETTO:+0200
TZNAME:CEST
DTSTART:20160327T010000
END:DAYLIGHT
BEGIN:STANDARD
TZOFFSETFROM:+0200
TZOFFSETTO:+0100
TZNAME:CET
DTSTART:20161030T010000
END:STANDARD
END:VTIMEZONE
BEGIN:VEVENT
DTSTART;TZID=Europe/Paris:20161001T170000
DTEND;TZID=Europe/Paris:20161105T200000
DTSTAMP:20260424T123512
CREATED:20160427T100128Z
LAST-MODIFIED:20160907T134958Z
UID:11562-1475341200-1478376000@maisonduberger.com
SUMMARY:A saute-mouton\, sur les pas du pastoralisme
DESCRIPTION:Les bibliothèques de Veynes et du Dévoluy parlent moutons et pastoralisme. Une programmation en partenariat avec la Maison du Berger. \n \n\n\n	Articles similaires
URL:http://maisonduberger.com/event/a-saute-mouton-sur-les-pas-du-pastoralisme/
LOCATION:Veynes et Dévoluy
CATEGORIES:Les rendez-vous
ATTACH;FMTTYPE=image/jpeg:http://maisonduberger.com/wp-content/uploads/2016/04/Recto-Flyer-2.jpg
END:VEVENT
END:VCALENDAR