BEGIN:VCALENDAR
VERSION:2.0
PRODID:-//Maison du Berger - ECPv5.4.0.2//NONSGML v1.0//EN
CALSCALE:GREGORIAN
METHOD:PUBLISH
X-WR-CALNAME:Maison du Berger
X-ORIGINAL-URL:http://maisonduberger.com
X-WR-CALDESC:évènements pour Maison du Berger
BEGIN:VTIMEZONE
TZID:Europe/Paris
BEGIN:DAYLIGHT
TZOFFSETFROM:+0100
TZOFFSETTO:+0200
TZNAME:CEST
DTSTART:20160327T010000
END:DAYLIGHT
BEGIN:STANDARD
TZOFFSETFROM:+0200
TZOFFSETTO:+0100
TZNAME:CET
DTSTART:20161030T010000
END:STANDARD
END:VTIMEZONE
BEGIN:VEVENT
DTSTART;TZID=Europe/Paris:20160806T210000
DTEND;TZID=Europe/Paris:20160806T230000
DTSTAMP:20260422T205350
CREATED:20160427T122314Z
LAST-MODIFIED:20160427T122446Z
UID:11579-1470517200-1470524400@maisonduberger.com
SUMMARY:Ciné-berger
DESCRIPTION:De chair et de lait (2015\, 93′) \nUn documentaire de Bernard Bloch. Projection au cinéma de Saint-Bonnet en Champsaur. \nAvec ce film\, Bernard Bloch a cherché\, comme le dit Walter Benjamin à « épier dans les bêtes ce que nous avons oublié ». Seize tableaux de chair et de lait\, filmés à travers le monde\, nous invitent à un voyage singulier où se déclinent les destins mêlés des vaches et des hommes.\nEffet miroir\, effet d’une relation qui s’incarne dans les gestes\, et les comportements\, dans les attitudes et les réflexions de ceux qui s’occupent des vaches comme pour interroger nos liens avec l’animal\, avec le vivant. \n \n\n\n	Articles similaires
URL:http://maisonduberger.com/event/cine-berger-2/
LOCATION:Cinéma de Saint-Bonnet en Champsaur\, Saint Bonnet en C.\, 05500\, France
CATEGORIES:Les rendez-vous
ATTACH;FMTTYPE=image/png:http://maisonduberger.com/wp-content/uploads/2016/04/de-chair-et-de-lait.png
END:VEVENT
END:VCALENDAR