BEGIN:VCALENDAR
VERSION:2.0
PRODID:-//Maison du Berger - ECPv5.4.0.2//NONSGML v1.0//EN
CALSCALE:GREGORIAN
METHOD:PUBLISH
X-WR-CALNAME:Maison du Berger
X-ORIGINAL-URL:http://maisonduberger.com
X-WR-CALDESC:évènements pour Maison du Berger
BEGIN:VTIMEZONE
TZID:Europe/Paris
BEGIN:DAYLIGHT
TZOFFSETFROM:+0100
TZOFFSETTO:+0200
TZNAME:CEST
DTSTART:20160327T010000
END:DAYLIGHT
BEGIN:STANDARD
TZOFFSETFROM:+0200
TZOFFSETTO:+0100
TZNAME:CET
DTSTART:20161030T010000
END:STANDARD
END:VTIMEZONE
BEGIN:VEVENT
DTSTART;VALUE=DATE:20160716
DTEND;VALUE=DATE:20160719
DTSTAMP:20260422T204643
CREATED:20160427T094746Z
LAST-MODIFIED:20160715T133050Z
UID:11558-1468627200-1468886399@maisonduberger.com
SUMMARY:Cœur de nature
DESCRIPTION:La Maison du Berger est partenaire de ce festival organisé par l’association Neige et Montagne située à Champoléon. Dans ce cadre\, le Centre de ressources « Pastoralisme et cultures montagnardes » de la Maison du Berger vous propose de partir sur les chemins de la vallée en mêlant lecture\, jeu\, écriture autour des plantes… Rendez-vous le dimanche 17 juillet à 14h au centre de ressources ! \nVoici le programme du festival : \n \n \n  \n  \n\n\n	Articles similaires
URL:http://maisonduberger.com/event/coeur-de-nature/
LOCATION:haut champsaur
CATEGORIES:Les rendez-vous
ATTACH;FMTTYPE=image/jpeg:http://maisonduberger.com/wp-content/uploads/2016/04/Affiche-Coeur-de-Nature-2016-800x600.jpg
ORGANIZER;CN="Neige%20et%20Montagne":MAILTO:nemchampo@gmail.com
END:VEVENT
END:VCALENDAR