BEGIN:VCALENDAR
VERSION:2.0
PRODID:-//Maison du Berger - ECPv5.4.0.2//NONSGML v1.0//EN
CALSCALE:GREGORIAN
METHOD:PUBLISH
X-WR-CALNAME:Maison du Berger
X-ORIGINAL-URL:http://maisonduberger.com
X-WR-CALDESC:évènements pour Maison du Berger
BEGIN:VTIMEZONE
TZID:Europe/Paris
BEGIN:DAYLIGHT
TZOFFSETFROM:+0100
TZOFFSETTO:+0200
TZNAME:CEST
DTSTART:20160327T010000
END:DAYLIGHT
BEGIN:STANDARD
TZOFFSETFROM:+0200
TZOFFSETTO:+0100
TZNAME:CET
DTSTART:20161030T010000
END:STANDARD
END:VTIMEZONE
BEGIN:VEVENT
DTSTART;TZID=Europe/Paris:20161003T150000
DTEND;TZID=Europe/Paris:20161003T170000
DTSTAMP:20260424T141016
CREATED:20160905T090223Z
LAST-MODIFIED:20160905T090357Z
UID:11564-1475506800-1475514000@maisonduberger.com
SUMMARY:Foire au tardon
DESCRIPTION:Dans le cadre de la traditionnelle Foire au tardon\, la Maison du Berger ouvre ses portes exceptionnellement gratuitement toute la journée\, de 9h à 17h et vous propose deux rendez-vous : \n15h – Projection du film Gens de moutons (2010\, 26’)\, de Georges Auzolat et Guillaume Lebaudy sur les routes de la transhumance et de l’élevage entre les Alpes et la Méditerrannée.\n16h – « Le loup et la déconomie »\, les histoires du berger Patrice Marie. Une réflexion sur la place du pastoralisme aujourd’hui\, avec beaucoup d’humour. \n\n\n	Articles similaires
URL:http://maisonduberger.com/event/foire-au-tardon/
LOCATION:Champoléon\, Les Borels
CATEGORIES:Les rendez-vous
ATTACH;FMTTYPE=image/jpeg:http://maisonduberger.com/wp-content/uploads/2016/09/gens-de-moutons.jpg
END:VEVENT
END:VCALENDAR