BEGIN:VCALENDAR
VERSION:2.0
PRODID:-//Maison du Berger - ECPv5.4.0.2//NONSGML v1.0//EN
CALSCALE:GREGORIAN
METHOD:PUBLISH
X-WR-CALNAME:Maison du Berger
X-ORIGINAL-URL:http://maisonduberger.com
X-WR-CALDESC:évènements pour Maison du Berger
BEGIN:VTIMEZONE
TZID:Europe/Paris
BEGIN:DAYLIGHT
TZOFFSETFROM:+0100
TZOFFSETTO:+0200
TZNAME:CEST
DTSTART:20160327T010000
END:DAYLIGHT
BEGIN:STANDARD
TZOFFSETFROM:+0200
TZOFFSETTO:+0100
TZNAME:CET
DTSTART:20161030T010000
END:STANDARD
END:VTIMEZONE
BEGIN:VEVENT
DTSTART;TZID=Europe/Paris:20160506T200000
DTEND;TZID=Europe/Paris:20160506T220000
DTSTAMP:20260422T123655
CREATED:20160425T123956Z
LAST-MODIFIED:20160502T135410Z
UID:11344-1462564800-1462572000@maisonduberger.com
SUMMARY:Paroles de montagne
DESCRIPTION:Pour son spectacle Montagne\, créé dans le cadre des Curieux de nature du théâtre La passerelle\, Thomas Quillardet a interrogé des randonneurs\, des bergers\, des alpinistes\, des botanistes\nhaut-alpins et japonais sur leur rapport à la montagne. \nAvec le comédien Benoît Carré et le traducteur japonais Akihito Hirato\, il vous propose d’entendre les paroles récoltées ou enregistrées. Ce seront des paroles de montagne\, plus précisément de gens qui aiment et vivent la montagne\, et qui ont aidé Thomas Quillardet à écrire son spectacle. Pourquoi ils l’aiment\, pourquoi elle les fascine\, les joies et les peurs qu’elle leur procure. \nLors de cette soirée pensée comme une veillée\, vous verrez surgir quelques personnages\, quelques insectes\, quelques plantes et des animaux…\nLecture avec Thomas Quillardet\, Benoît Carré et Akihito Hirano en lien avec le spectacle Montagne programmé dans le cadre des « Curieux de nature » le 13 et 14 mai à la station de Céüze par le Théâtre La Passerelle – Scène nationale de Gap.\nSur réservation au 04 92 49 61 85.  \n  \n \n\n\n	Articles similaires
URL:http://maisonduberger.com/event/paroles-de-montagne/
LOCATION:Maison du Berger\, Les borels\, Champoléon\, 05260\, France
CATEGORIES:Les rendez-vous
ATTACH;FMTTYPE=image/jpeg:http://maisonduberger.com/wp-content/uploads/2016/04/montagne-2©philippe-Ariagno-2-320x200.jpg
END:VEVENT
END:VCALENDAR